BEGIN:VCALENDAR
VERSION:2.0
PRODID:-//FDP Lemwerder - ECPv6.15.20//NONSGML v1.0//EN
CALSCALE:GREGORIAN
METHOD:PUBLISH
X-ORIGINAL-URL:https://fdp-lemwerder.de
X-WR-CALDESC:Veranstaltungen für FDP Lemwerder
REFRESH-INTERVAL;VALUE=DURATION:PT1H
X-Robots-Tag:noindex
X-PUBLISHED-TTL:PT1H
BEGIN:VTIMEZONE
TZID:Europe/Berlin
BEGIN:DAYLIGHT
TZOFFSETFROM:+0100
TZOFFSETTO:+0200
TZNAME:CEST
DTSTART:20250330T010000
END:DAYLIGHT
BEGIN:STANDARD
TZOFFSETFROM:+0200
TZOFFSETTO:+0100
TZNAME:CET
DTSTART:20251026T010000
END:STANDARD
BEGIN:DAYLIGHT
TZOFFSETFROM:+0100
TZOFFSETTO:+0200
TZNAME:CEST
DTSTART:20260329T010000
END:DAYLIGHT
BEGIN:STANDARD
TZOFFSETFROM:+0200
TZOFFSETTO:+0100
TZNAME:CET
DTSTART:20261025T010000
END:STANDARD
BEGIN:DAYLIGHT
TZOFFSETFROM:+0100
TZOFFSETTO:+0200
TZNAME:CEST
DTSTART:20270328T010000
END:DAYLIGHT
BEGIN:STANDARD
TZOFFSETFROM:+0200
TZOFFSETTO:+0100
TZNAME:CET
DTSTART:20271031T010000
END:STANDARD
END:VTIMEZONE
BEGIN:VEVENT
DTSTART;TZID=Europe/Berlin:20260602T193000
DTEND;TZID=Europe/Berlin:20260602T213000
DTSTAMP:20260424T144509
CREATED:20251116T115316Z
LAST-MODIFIED:20251116T115316Z
UID:2509-1780428600-1780435800@fdp-lemwerder.de
SUMMARY:öffentliche Fraktionssitzung
DESCRIPTION:
URL:https://fdp-lemwerder.de/event/oeffentliche-fraktionssitzung-64/
LOCATION:Rathaus Lemwerder
END:VEVENT
BEGIN:VEVENT
DTSTART;VALUE=DATE:20260613
DTEND;VALUE=DATE:20260614
DTSTAMP:20260424T144509
CREATED:20250917T172131Z
LAST-MODIFIED:20250917T172131Z
UID:2456-1781308800-1781395199@fdp-lemwerder.de
SUMMARY:FDP Aktionstag
DESCRIPTION:
URL:https://fdp-lemwerder.de/event/fdp-aktionstag-19/
END:VEVENT
BEGIN:VEVENT
DTSTART;VALUE=DATE:20260613
DTEND;VALUE=DATE:20260614
DTSTAMP:20260424T144509
CREATED:20251116T115651Z
LAST-MODIFIED:20251116T115651Z
UID:2519-1781308800-1781395199@fdp-lemwerder.de
SUMMARY:Eisstockschießen
DESCRIPTION:
URL:https://fdp-lemwerder.de/event/eisstockschiessen-3/
LOCATION:Brake\, Brake\, 26919\, Deutschland
END:VEVENT
END:VCALENDAR